BEGIN:VCALENDAR
VERSION:2.0
PRODID:-//The Positive Vibrations - ECPv5.14.2.1//NONSGML v1.0//EN
CALSCALE:GREGORIAN
METHOD:PUBLISH
X-WR-CALNAME:The Positive Vibrations
X-ORIGINAL-URL:https://www.thepositivevibrations.com
X-WR-CALDESC:Events for The Positive Vibrations
REFRESH-INTERVAL;VALUE=DURATION:PT1H
X-Robots-Tag:noindex
X-PUBLISHED-TTL:PT1H
BEGIN:VTIMEZONE
TZID:UTC
BEGIN:STANDARD
TZOFFSETFROM:+0000
TZOFFSETTO:+0000
TZNAME:UTC
DTSTART:20220101T000000
END:STANDARD
END:VTIMEZONE
BEGIN:VEVENT
DTSTART;TZID=UTC:20220226T090000
DTEND;TZID=UTC:20220226T090000
DTSTAMP:20260420T071032
CREATED:20220125T145704Z
LAST-MODIFIED:20220125T155048Z
UID:3418-1645866000-1645866000@www.thepositivevibrations.com
SUMMARY:Bonita Beach Cleanup
DESCRIPTION:Please RSVP so we can help to reserve a parking spot. \nGet an official “shoreline superheroes” decal for participating. \n\n\n\n\n\n\n\n\n\n 
URL:https://www.thepositivevibrations.com/event/bonita-beach-cleanup/
LOCATION:Bonita Beach Park\, 27954 Hickory Blvd\, Bonita Springs\, Florida\, 34134\, United States
ATTACH;FMTTYPE=image/jpeg:https://www.thepositivevibrations.com/wp-content/uploads/2020/03/AdobeStock_294464135.jpeg
END:VEVENT
END:VCALENDAR